BEGIN:VCALENDAR
VERSION:2.0
PRODID:-//Rabboni Institute - ECPv4.8//NONSGML v1.0//EN
CALSCALE:GREGORIAN
METHOD:PUBLISH
X-WR-CALNAME:Rabboni Institute
X-ORIGINAL-URL:https://rabboniinstitute.org
X-WR-CALDESC:Events for Rabboni Institute
BEGIN:VEVENT
DTSTART;VALUE=DATE:20191005
DTEND;VALUE=DATE:20191006
DTSTAMP:20260426T012739
CREATED:20190909T163417Z
LAST-MODIFIED:20190909T165648Z
UID:3307-1570233600-1570319999@rabboniinstitute.org
SUMMARY:"Pierced by Sorrow\, Released into Joy" Pregnancy Loss Retreat
DESCRIPTION:\nDisclaimer: New to our ministry?  Learn more about our mission here.\n \nJerome’s Hope from the Archdiocese of Houston will be hosting one of our Pierced Retreats on October 5\, 2019. Pierced by Sorrow\, Released into Joy”  is a couples retreat for those who have experienced the loss of a pregnancy or young child. The all day retreat will be held at the Cameron Retreat Center in Houston\, TX. \nThe cost is $25 which includes all materials. For more information or to register\, please click here or email jkfritsch@archgh.org  or call (713) 741-8728. \n  \n\nDisclaimer: New to our ministry?  Learn more about our mission here.\n“Pierced by Sorrow\, Released into Joy” Pregnancy Loss Retreat
URL:https://rabboniinstitute.org/event/pierced-by-sorrow-released-into-joy-pregnancy-loss-retreat/
LOCATION:Cameron Retreat Center\, 2405 Holcombe Blvd\, Houston\, TX\, 77021\, United States
CATEGORIES:SHAP,SHAP-Pierced
ATTACH;FMTTYPE=image/png:https://rabboniinstitute.org/wp-content/uploads/2019/09/pierced-pbs-small.png
END:VEVENT
END:VCALENDAR