BEGIN:VCALENDAR
VERSION:2.0
PRODID:-//Rabboni Institute - ECPv4.8//NONSGML v1.0//EN
CALSCALE:GREGORIAN
METHOD:PUBLISH
X-WR-CALNAME:Rabboni Institute
X-ORIGINAL-URL:https://rabboniinstitute.org
X-WR-CALDESC:Events for Rabboni Institute
BEGIN:VEVENT
DTSTART;TZID=UTC-5:20200420T190000
DTEND;TZID=UTC-5:20200420T203000
DTSTAMP:20260426T000100
CREATED:20200310T215146Z
LAST-MODIFIED:20200328T194725Z
UID:3356-1587409200-1587414600@rabboniinstitute.org
SUMMARY:"A Future Full of Hope" Infertility Prayer Service (Austin\, TX)
DESCRIPTION:\nDisclaimer: New to our ministry?  Learn more about our mission here.\n\nAs part of National Infertility Awareness Week\, a special prayer service for couples struggling with infertility and/or recurrent miscarriage will be celebrated on Monday\, April 20\, 2020 at 7 p.m. at Alicia Chapel\, St. Vincent de Paul Catholic Church\, in Austin\, TX. The Austin chapter of Sarah’s Hope & Abraham’s Promise invite all to attend and join with these couples in prayer. A reception immediately following will be held in the dining room. \nDUE TO THE CORONAVIRUS PANDEMIC\, THIS EVENT MAY BE HELD VIRTUALLY INSTEAD. WE WILL UPDATE THE WEBSITE AS WE GET CLOSER AND DECISIONS ARE MADE! \n\nDisclaimer: New to our ministry?  Learn more about our mission here.\n“A Future Full of Hope” Infertility Prayer Service (Austin\, TX)
URL:https://rabboniinstitute.org/event/a-future-full-of-hope-infertility-prayer-service/
LOCATION:St. Vincent de Paul Catholic Church\, 9500 Neenah Avenue\, Austin\, TX\, 78717\, United States
CATEGORIES:SHAP,SHAP-Infertility
END:VEVENT
END:VCALENDAR